BEGIN:VCALENDAR
VERSION:2.0
PRODID:-//Fanclub des FCI-IGP Team Suisse - ECPv6.15.13//NONSGML v1.0//EN
CALSCALE:GREGORIAN
METHOD:PUBLISH
X-ORIGINAL-URL:https://igpfans.ch
X-WR-CALDESC:Veranstaltungen im Fanclub des FCI-IGP Team Suisse
REFRESH-INTERVAL;VALUE=DURATION:PT1H
X-Robots-Tag:noindex
X-PUBLISHED-TTL:PT1H
BEGIN:VTIMEZONE
TZID:Europe/Zurich
BEGIN:DAYLIGHT
TZOFFSETFROM:+0100
TZOFFSETTO:+0200
TZNAME:CEST
DTSTART:20240331T010000
END:DAYLIGHT
BEGIN:STANDARD
TZOFFSETFROM:+0200
TZOFFSETTO:+0100
TZNAME:CET
DTSTART:20241027T010000
END:STANDARD
BEGIN:DAYLIGHT
TZOFFSETFROM:+0100
TZOFFSETTO:+0200
TZNAME:CEST
DTSTART:20250330T010000
END:DAYLIGHT
BEGIN:STANDARD
TZOFFSETFROM:+0200
TZOFFSETTO:+0100
TZNAME:CET
DTSTART:20251026T010000
END:STANDARD
BEGIN:DAYLIGHT
TZOFFSETFROM:+0100
TZOFFSETTO:+0200
TZNAME:CEST
DTSTART:20260329T010000
END:DAYLIGHT
BEGIN:STANDARD
TZOFFSETFROM:+0200
TZOFFSETTO:+0100
TZNAME:CET
DTSTART:20261025T010000
END:STANDARD
END:VTIMEZONE
BEGIN:VEVENT
DTSTART;TZID=Europe/Zurich:20250314T000000
DTEND;TZID=Europe/Zurich:20250315T235959
DTSTAMP:20260423T145020
CREATED:20241124T091524Z
LAST-MODIFIED:20250302T180356Z
UID:7042-1741910400-1742083199@igpfans.ch
SUMMARY:1. WM-Qualifikation\, IGP FCI &FMBB 2025
DESCRIPTION:Am Freitag findet das Training statt und die Auslosung erfolgt am Abend.Der Wettkampf findet nur am Samstag statt! \n\n\n\nStartlisteInfos der TKGS \n\n\n\nSociété Canine de Fribourg
URL:https://igpfans.ch/veranstaltung/1-wm-qualifikation-igp-fci-fmbb-2025/
END:VEVENT
END:VCALENDAR