BEGIN:VCALENDAR
VERSION:2.0
PRODID:-//Fanclub des FCI-IGP Team Suisse - ECPv6.15.13//NONSGML v1.0//EN
CALSCALE:GREGORIAN
METHOD:PUBLISH
X-ORIGINAL-URL:https://igpfans.ch
X-WR-CALDESC:Veranstaltungen im Fanclub des FCI-IGP Team Suisse
REFRESH-INTERVAL;VALUE=DURATION:PT1H
X-Robots-Tag:noindex
X-PUBLISHED-TTL:PT1H
BEGIN:VTIMEZONE
TZID:Europe/Zurich
BEGIN:DAYLIGHT
TZOFFSETFROM:+0100
TZOFFSETTO:+0200
TZNAME:CEST
DTSTART:20240331T010000
END:DAYLIGHT
BEGIN:STANDARD
TZOFFSETFROM:+0200
TZOFFSETTO:+0100
TZNAME:CET
DTSTART:20241027T010000
END:STANDARD
BEGIN:DAYLIGHT
TZOFFSETFROM:+0100
TZOFFSETTO:+0200
TZNAME:CEST
DTSTART:20250330T010000
END:DAYLIGHT
BEGIN:STANDARD
TZOFFSETFROM:+0200
TZOFFSETTO:+0100
TZNAME:CET
DTSTART:20251026T010000
END:STANDARD
BEGIN:DAYLIGHT
TZOFFSETFROM:+0100
TZOFFSETTO:+0200
TZNAME:CEST
DTSTART:20260329T010000
END:DAYLIGHT
BEGIN:STANDARD
TZOFFSETFROM:+0200
TZOFFSETTO:+0100
TZNAME:CET
DTSTART:20261025T010000
END:STANDARD
BEGIN:DAYLIGHT
TZOFFSETFROM:+0100
TZOFFSETTO:+0200
TZNAME:CEST
DTSTART:20270328T010000
END:DAYLIGHT
BEGIN:STANDARD
TZOFFSETFROM:+0200
TZOFFSETTO:+0100
TZNAME:CET
DTSTART:20271031T010000
END:STANDARD
END:VTIMEZONE
BEGIN:VEVENT
DTSTART;TZID=Europe/Zurich:20250506T000000
DTEND;TZID=Europe/Zurich:20250511T235959
DTSTAMP:20260422T024530
CREATED:20250326T071104Z
LAST-MODIFIED:20250326T071609Z
UID:7172-1746489600-1747007999@igpfans.ch
SUMMARY:Weltmeisterschaft FMBB 2025
DESCRIPTION:Weltmeisterschaft\, Karpensis Griechenland \n\n\n\nZur Webseite des VeranstaltersUnterstützung für das Team Schweiz an der FMBB in Griechenland
URL:https://igpfans.ch/veranstaltung/weltmeisterschaft-fmbb-2025/
END:VEVENT
BEGIN:VEVENT
DTSTART;TZID=Europe/Zurich:20250601T090000
DTEND;TZID=Europe/Zurich:20250601T170000
DTSTAMP:20260422T024530
CREATED:20250508T064148Z
LAST-MODIFIED:20250523T090355Z
UID:7181-1748768400-1748797200@igpfans.ch
SUMMARY:Unterordnungs-Workshop 2025
DESCRIPTION:Der Workshop wird verschoben!Grund; zu wenig Anmeldungen!
URL:https://igpfans.ch/veranstaltung/unterordnungs-workshop-2025/
END:VEVENT
BEGIN:VEVENT
DTSTART;TZID=Europe/Zurich:20250613T000000
DTEND;TZID=Europe/Zurich:20250614T235959
DTSTAMP:20260422T024530
CREATED:20250318T080450Z
LAST-MODIFIED:20250318T081058Z
UID:7165-1749772800-1749945599@igpfans.ch
SUMMARY:2. WM-Qualifikation FCI
DESCRIPTION:Qualifikationsrangliste \n\n\n\nDetail Infos zur 2. WM-Qualifikation FCI
URL:https://igpfans.ch/veranstaltung/2-wm-qualifikation-fci/
END:VEVENT
BEGIN:VEVENT
DTSTART;TZID=Europe/Zurich:20250915T000000
DTEND;TZID=Europe/Zurich:20250921T235959
DTSTAMP:20260422T024530
CREATED:20241125T074114Z
LAST-MODIFIED:20250725T072047Z
UID:7053-1757894400-1758499199@igpfans.ch
SUMMARY:FCI IGP WM 2025
DESCRIPTION:Zur Webseite des Veranstalters
URL:https://igpfans.ch/veranstaltung/fci-igp-wm-2025/
END:VEVENT
BEGIN:VEVENT
DTSTART;TZID=Europe/Zurich:20251114T000000
DTEND;TZID=Europe/Zurich:20251116T235959
DTSTAMP:20260422T024530
CREATED:20250725T073121Z
LAST-MODIFIED:20250725T073121Z
UID:7236-1763078400-1763337599@igpfans.ch
SUMMARY:SKG SM\, Bischofszell
DESCRIPTION:SKG Bischofszell \n\n\n\n\n\n\n\nHier geht’s zur Webseite des Veranstalters
URL:https://igpfans.ch/veranstaltung/skg-sm-bischofszell/
CATEGORIES:Schweizermeisterschaft
END:VEVENT
BEGIN:VEVENT
DTSTART;TZID=Europe/Zurich:20260314T000000
DTEND;TZID=Europe/Zurich:20260314T235959
DTSTAMP:20260422T024530
CREATED:20260204T103517Z
LAST-MODIFIED:20260207T090305Z
UID:7347-1773446400-1773532799@igpfans.ch
SUMMARY:1. FMBB/FCI WM-Ausscheidung
DESCRIPTION:SKBS OG Basel\, EptingenDie Mitglieder der Vereins und die\, die es werden möchten sind ab 11:00 Uhr\, herzlich zu einem Apéro eingeladen! \n\n\n\nWebseite des Veranstalters
URL:https://igpfans.ch/veranstaltung/1-fmbb-fci-wm-ausscheidung/
END:VEVENT
BEGIN:VEVENT
DTSTART;TZID=Europe/Zurich:20260329T093000
DTEND;TZID=Europe/Zurich:20260329T113000
DTSTAMP:20260422T024530
CREATED:20260204T102748Z
LAST-MODIFIED:20260312T075937Z
UID:7345-1774776600-1774783800@igpfans.ch
SUMMARY:Generalversammlung
DESCRIPTION:Der Vorstand lädt die Mitglieder des IGP-Fan-Clubs zur diesjährigen Generalversammlung ein.Ort: beim Hundesportverein Wolfwil mit anschliessendem Mittagessen und Nachmittag freies Training auf dem Platz möglich! \n\n\n\n\n\n\n\nEinladung \n\n\n\n\nProtokoll\n\n\n\nJahresbericht des Präsidenten\n\n\n\n\n\n\n\n\n\n\n\n\nAnmeldung für die GV hier! \n\n\n\n\n\n\nBitte aktivieren Sie JavaScript in Ihrem Browser\, um dieses Formular fertigzustellen.Name *VornameNachnameE-Mail *Mobile Nr.Teilnahme GV  *JaNeinMittagessen *JaNeinFormular senden
URL:https://igpfans.ch/veranstaltung/generalversammlung/
END:VEVENT
END:VCALENDAR