BEGIN:VCALENDAR
VERSION:2.0
PRODID:-//Fanclub des FCI-IGP Team Suisse - ECPv6.15.13//NONSGML v1.0//EN
CALSCALE:GREGORIAN
METHOD:PUBLISH
X-WR-CALNAME:Fanclub des FCI-IGP Team Suisse
X-ORIGINAL-URL:https://igpfans.ch
X-WR-CALDESC:Veranstaltungen im Fanclub des FCI-IGP Team Suisse
REFRESH-INTERVAL;VALUE=DURATION:PT1H
X-Robots-Tag:noindex
X-PUBLISHED-TTL:PT1H
BEGIN:VTIMEZONE
TZID:Europe/Berlin
BEGIN:DAYLIGHT
TZOFFSETFROM:+0100
TZOFFSETTO:+0200
TZNAME:CEST
DTSTART:20190331T010000
END:DAYLIGHT
BEGIN:STANDARD
TZOFFSETFROM:+0200
TZOFFSETTO:+0100
TZNAME:CET
DTSTART:20191027T010000
END:STANDARD
BEGIN:DAYLIGHT
TZOFFSETFROM:+0100
TZOFFSETTO:+0200
TZNAME:CEST
DTSTART:20200329T010000
END:DAYLIGHT
BEGIN:STANDARD
TZOFFSETFROM:+0200
TZOFFSETTO:+0100
TZNAME:CET
DTSTART:20201025T010000
END:STANDARD
BEGIN:DAYLIGHT
TZOFFSETFROM:+0100
TZOFFSETTO:+0200
TZNAME:CEST
DTSTART:20210328T010000
END:DAYLIGHT
BEGIN:STANDARD
TZOFFSETFROM:+0200
TZOFFSETTO:+0100
TZNAME:CET
DTSTART:20211031T010000
END:STANDARD
BEGIN:DAYLIGHT
TZOFFSETFROM:+0100
TZOFFSETTO:+0200
TZNAME:CEST
DTSTART:20220327T010000
END:DAYLIGHT
BEGIN:STANDARD
TZOFFSETFROM:+0200
TZOFFSETTO:+0100
TZNAME:CET
DTSTART:20221030T010000
END:STANDARD
END:VTIMEZONE
BEGIN:VEVENT
DTSTART;VALUE=DATE:20211106
DTEND;VALUE=DATE:20211108
DTSTAMP:20260423T004426
CREATED:20210215T123502Z
LAST-MODIFIED:20210215T123502Z
UID:1884-1636156800-1636329599@igpfans.ch
SUMMARY:SKBS SM 2021
DESCRIPTION:Wenn es die Corona Situation zulässt findet die SKBS SM in Menzingen ZG statt\, so jedenfalls ist es geplant.
URL:https://igpfans.ch/veranstaltung/geplant-skbs-sm-2021/
LOCATION:Menzingen\, Zug\, 6313
END:VEVENT
BEGIN:VEVENT
DTSTART;VALUE=DATE:20211026
DTEND;VALUE=DATE:20211101
DTSTAMP:20260423T004426
CREATED:20211004T111002Z
LAST-MODIFIED:20211004T111002Z
UID:2211-1635206400-1635724799@igpfans.ch
SUMMARY:Weltmeisterschaft der Fährtenhunde FCI IGP FH 2021
DESCRIPTION:Ersatz für die coronabedingt abgesagte FH WM in Lahti/Finnland
URL:https://igpfans.ch/veranstaltung/weltmeisterschaft-der-faehrtenhunde-fci-igp-fh-2021/
LOCATION:2711 Tápiószentmárton\, Sőregi út 1.\, Ungarn
END:VEVENT
BEGIN:VEVENT
DTSTART;TZID=Europe/Berlin:20210925T080000
DTEND;TZID=Europe/Berlin:20210926T170000
DTSTAMP:20260423T004426
CREATED:20210923T103506Z
LAST-MODIFIED:20210923T103506Z
UID:2039-1632556800-1632675600@igpfans.ch
SUMMARY:5 Rassen  SM
DESCRIPTION:Am Wochenende vom 25. und 26. September 2021\, findet in Burgdorf die SM der 5 Rassen statt. \nLink zum Veranstalter
URL:https://igpfans.ch/veranstaltung/schweizermeisterschaft-5-rassen/
LOCATION:Burgdorf\, Bern\, Schweiz
END:VEVENT
BEGIN:VEVENT
DTSTART;TZID=Europe/Berlin:20200913T100000
DTEND;TZID=Europe/Berlin:20200913T140000
DTSTAMP:20260423T004426
CREATED:20200301T094541Z
LAST-MODIFIED:20200301T094541Z
UID:1329-1599991200-1600005600@igpfans.ch
SUMMARY:10. Generalversammlung Fanclub FCI-IGP
DESCRIPTION:GV-Einladung 10.
URL:https://igpfans.ch/veranstaltung/10-generalversammlung-fanclub-fci-igp/
LOCATION:RSA Talmatte\, Effingen\, Talmatte\, Effingen\, Aargau\, 5078\, Schweiz
END:VEVENT
END:VCALENDAR