BEGIN:VCALENDAR
VERSION:2.0
PRODID:-//Fanclub des FCI-IGP Team Suisse - ECPv6.15.13//NONSGML v1.0//EN
CALSCALE:GREGORIAN
METHOD:PUBLISH
X-WR-CALNAME:Fanclub des FCI-IGP Team Suisse
X-ORIGINAL-URL:https://igpfans.ch
X-WR-CALDESC:Veranstaltungen im Fanclub des FCI-IGP Team Suisse
REFRESH-INTERVAL;VALUE=DURATION:PT1H
X-Robots-Tag:noindex
X-PUBLISHED-TTL:PT1H
BEGIN:VTIMEZONE
TZID:Europe/Zurich
BEGIN:DAYLIGHT
TZOFFSETFROM:+0100
TZOFFSETTO:+0200
TZNAME:CEST
DTSTART:20240331T010000
END:DAYLIGHT
BEGIN:STANDARD
TZOFFSETFROM:+0200
TZOFFSETTO:+0100
TZNAME:CET
DTSTART:20241027T010000
END:STANDARD
BEGIN:DAYLIGHT
TZOFFSETFROM:+0100
TZOFFSETTO:+0200
TZNAME:CEST
DTSTART:20250330T010000
END:DAYLIGHT
BEGIN:STANDARD
TZOFFSETFROM:+0200
TZOFFSETTO:+0100
TZNAME:CET
DTSTART:20251026T010000
END:STANDARD
BEGIN:DAYLIGHT
TZOFFSETFROM:+0100
TZOFFSETTO:+0200
TZNAME:CEST
DTSTART:20260329T010000
END:DAYLIGHT
BEGIN:STANDARD
TZOFFSETFROM:+0200
TZOFFSETTO:+0100
TZNAME:CET
DTSTART:20261025T010000
END:STANDARD
END:VTIMEZONE
BEGIN:VEVENT
DTSTART;TZID=Europe/Zurich:20250314T000000
DTEND;TZID=Europe/Zurich:20250315T235959
DTSTAMP:20260423T132024
CREATED:20241124T091524Z
LAST-MODIFIED:20250302T180356Z
UID:7042-1741910400-1742083199@igpfans.ch
SUMMARY:1. WM-Qualifikation\, IGP FCI &FMBB 2025
DESCRIPTION:Am Freitag findet das Training statt und die Auslosung erfolgt am Abend.Der Wettkampf findet nur am Samstag statt! \n\n\n\nStartlisteInfos der TKGS \n\n\n\nSociété Canine de Fribourg
URL:https://igpfans.ch/veranstaltung/1-wm-qualifikation-igp-fci-fmbb-2025/
END:VEVENT
BEGIN:VEVENT
DTSTART;TZID=Europe/Zurich:20250323T093000
DTEND;TZID=Europe/Zurich:20250323T153000
DTSTAMP:20260423T132024
CREATED:20250218T081930Z
LAST-MODIFIED:20250226T161321Z
UID:6670-1742722200-1742743800@igpfans.ch
SUMMARY:15. Generalversammlung Fanclub FCI-IGP Team Suisse
DESCRIPTION:Ort: Hundesport Ziegelhütte Niederbipp\, Aarwangenstrasse\, 4704 Niederbipp \n\n\n\nAnfahrtsweg aus Richtung Autobahn A1/NiederbippAusfahrt Niederbipp\, Richtung Aarwangen/LangenthalNACH dem Kieswerk IFF AG ist rechts unser Areal. \n\n\n\nab 09:30 UhrEintreffen\, Einschreiben10:00 – 11:30 UhrGeneralversammlungab 11:30 UhrApéro / Mittagessen13:30 – 15:30 UhrInfo\n\n\n\n\n\n\n\n \n\n\n\n\nEinladung\n\n\n\n\n \n\n\n\n\nProtokoll der letzten GV\n\n\n\n\n \n\n\n\n\nJahresbericht des Präsidenten\n\n\n\n\nAnmeldung\n\n\nBitte aktivieren Sie JavaScript in Ihrem Browser\, um dieses Formular fertigzustellen.Name *VornameNachnameE-Mail *Mobile Nr.Teilnahme GV  *JaNeinMittagessen *JaNeinFormular senden
URL:https://igpfans.ch/veranstaltung/14-generalversammlung/
CATEGORIES:Generalversammlung
END:VEVENT
BEGIN:VEVENT
DTSTART;TZID=Europe/Zurich:20250331T000000
DTEND;TZID=Europe/Zurich:20250405T235959
DTSTAMP:20260423T132024
CREATED:20241124T091832Z
LAST-MODIFIED:20250102T101756Z
UID:7044-1743379200-1743897599@igpfans.ch
SUMMARY:FCI IGP FH 2025  Worldchampionship 25
DESCRIPTION:Rohrbach – Berg  (Austria)
URL:https://igpfans.ch/veranstaltung/fci-igp-fh-2025-worldchampionship-25/
END:VEVENT
END:VCALENDAR